BEGIN:VCALENDAR
VERSION:2.0
PRODID:-//Las Vegas Youth Bowling Tournament - ECPv6.15.20//NONSGML v1.0//EN
CALSCALE:GREGORIAN
METHOD:PUBLISH
X-WR-CALNAME:Las Vegas Youth Bowling Tournament
X-ORIGINAL-URL:https://www.lvybt.com
X-WR-CALDESC:Events for Las Vegas Youth Bowling Tournament
REFRESH-INTERVAL;VALUE=DURATION:PT1H
X-Robots-Tag:noindex
X-PUBLISHED-TTL:PT1H
BEGIN:VTIMEZONE
TZID:UTC
BEGIN:STANDARD
TZOFFSETFROM:+0000
TZOFFSETTO:+0000
TZNAME:UTC
DTSTART:20240101T000000
END:STANDARD
END:VTIMEZONE
BEGIN:VEVENT
DTSTART;TZID=UTC:20251214T080000
DTEND;TZID=UTC:20251214T170000
DTSTAMP:20260420T150740
CREATED:20250619T153351Z
LAST-MODIFIED:20250619T153351Z
UID:626-1765699200-1765731600@www.lvybt.com
SUMMARY:Normal 5-gamer with step-ladder finals
DESCRIPTION:
URL:https://www.lvybt.com/event/normal-5-gamer-with-step-ladder-finals-2/
LOCATION:Santa Fe Lanes\, 4949 N Rancho Dr\, Las Vegas\, 89130\, United States
ORGANIZER;CN="Cathy McCloskey":MAILTO:cathy.mccloskey@stationcasionos.com
END:VEVENT
END:VCALENDAR